BEGIN:VCALENDAR
METHOD:PUBLISH
PRODID:-//Weblication CMS
VERSION:2.0
BEGIN:VEVENT
SUMMARY:Wiener Kaffee
DTSTART:20240520T113000
DTEND:20240520T170000
DESCRIPTION:Geniessen Sie feinste Wiener Spezialitäten bei uns im Restaurant Rose Zum Mittagessen: Schnitzel Wiener Art mit Pommes frites Am Nachmittag: Wir servieren süsse Wiener Köstlichkeiten wie Wiener Eiskaffee oder Sachertorte. Begleitet wird der Nachmittag mit Klaviermusik.
LOCATION:Villmergen
UID:https://sinnespark.ch/de-ch/events/termine/wiener-kaffee.php?uid=6053dcf344efacadfeb0bcabf5063845
URL:https://sinnespark.ch/de-ch/events/termine/wiener-kaffee.php
END:VEVENT
END:VCALENDAR