BEGIN:VCALENDAR
METHOD:PUBLISH
PRODID:-//Weblication CMS
VERSION:2.0
BEGIN:VEVENT
SUMMARY:Wiener Kaffee im Restaurant Rose
DTSTART;VALUE=DATE:20230529
DTEND;VALUE=DATE:20230530
DESCRIPTION:Geniessen Sie die "Wiener Stimmung" im Restaurant Rose
LOCATION:Villmergen
UID:https://sinnespark.ch/de-ch/events/termine/wiener-kaffee-im-restaurant-rose.php?uid=b6903ba86da87b0e3fee102878c95fd3
URL:https://sinnespark.ch/de-ch/events/termine/wiener-kaffee-im-restaurant-rose.php
END:VEVENT
END:VCALENDAR