BEGIN:VCALENDAR
METHOD:PUBLISH
PRODID:-//Weblication CMS
VERSION:2.0
BEGIN:VEVENT
SUMMARY:Sinnesparkfest
DTSTART:20240831T113000
DTEND:20240831T170000
DESCRIPTION:Ein Fest für alle Generationen
LOCATION:Villmergen
UID:https://sinnespark.ch/de-ch/events/termine/sinnesparkfest.php?uid=f0f0aa8df1055f9589db61d7858db46b
URL:https://sinnespark.ch/de-ch/events/termine/sinnesparkfest.php
END:VEVENT
END:VCALENDAR