BEGIN:VCALENDAR
METHOD:PUBLISH
PRODID:-//Weblication CMS
VERSION:2.0
BEGIN:VEVENT
SUMMARY:Ostereiersuche im Sinnespark
DTSTART:20230410T100000
DTEND:20230410T000000
DESCRIPTION:Suchen Sie die Ostereier im Sinnespark, ein Vergnügen für die ganze Familie Treffpunkt um 10.00 Uhr auf der Terrasse des Restaurants Rose
LOCATION:Villmergen
UID:https://sinnespark.ch/de-ch/events/termine/ostereiersuche-im-sinnespark.php?uid=7eb6943f237e9f9a53cced34cad117c2
URL:https://sinnespark.ch/de-ch/events/termine/ostereiersuche-im-sinnespark.php
END:VEVENT
END:VCALENDAR