BEGIN:VCALENDAR
METHOD:PUBLISH
PRODID:-//Weblication CMS
VERSION:2.0
BEGIN:VEVENT
SUMMARY:Ostereiersuche im Sinnespark
DTSTART:20240401T103000
DTEND:20240401T120000
DESCRIPTION:
LOCATION:Villmergen
UID:https://sinnespark.ch/de-ch/events/termine/ostereiersuche-im-sinnespark-1.php?uid=0fa9a6a3b6880fe3bb11ebcd675cd17e
URL:https://sinnespark.ch/de-ch/events/termine/ostereiersuche-im-sinnespark-1.php
END:VEVENT
END:VCALENDAR