BEGIN:VCALENDAR
METHOD:PUBLISH
PRODID:-//Weblication CMS
VERSION:2.0
BEGIN:VEVENT
SUMMARY:Ökumenischer Gottesdienst
DTSTART:20230624T103000
DTEND:20230624T150000
DESCRIPTION:Ökumenischer Gottesdient mit dem katholischen Pfarrer Hanspeter Menz und dem reformierten Pfarrer Markus Opitz auf der Terrasse des Restaurants Rose.. Bei schlechtem Wetter findet der Gottesdienst in der katholischen Kirche Villmergen statt. Ab ca. 11.30 Uhr heissen wir Sie herzlich zu einem Mittagessen (Grilladen) im Restaurant Rose willkommen.
LOCATION:Villmergen
UID:https://sinnespark.ch/de-ch/events/termine/oekumenischer-gottesdienst.php?uid=8872c806f25c1709aa903a23be7ff8e4
URL:https://sinnespark.ch/de-ch/events/termine/oekumenischer-gottesdienst.php
END:VEVENT
END:VCALENDAR