BEGIN:VCALENDAR
METHOD:PUBLISH
PRODID:-//Weblication CMS
VERSION:2.0
BEGIN:VEVENT
SUMMARY:Mitgliederversammlung des Altersheim-Vereins Villmergen/Dintikon
DTSTART:20240605T190000
DTEND:20240605T220000
DESCRIPTION:
LOCATION:Villmergen
UID:https://sinnespark.ch/de-ch/events/termine/mitgliederversammlung-des-altersheim-vereins-villmergen-dintikon.php?uid=490d07b9d6481c72518df40ed1779112
URL:https://sinnespark.ch/de-ch/events/termine/mitgliederversammlung-des-altersheim-vereins-villmergen-dintikon.php
END:VEVENT
END:VCALENDAR