BEGIN:VCALENDAR
METHOD:PUBLISH
PRODID:-//Weblication CMS
VERSION:2.0
BEGIN:VEVENT
SUMMARY:Mitgliederversammlung Altersheim-Verein Villmergen/Dintikon
DTSTART:20230522T190000
DTEND:20230522T220000
DESCRIPTION:Jährliche Mitgliederversammlung des Altersheim-Vereins Villmergen/Dintikon im Restaurant Rose
LOCATION:Villmergen
UID:https://sinnespark.ch/de-ch/events/termine/mitgliederversammlung-altersheim-verein-villmergen-dintikon.php?uid=e43c0f2e7e1988423f5b14c55d2c7de7
URL:https://sinnespark.ch/de-ch/events/termine/mitgliederversammlung-altersheim-verein-villmergen-dintikon.php
END:VEVENT
END:VCALENDAR