BEGIN:VCALENDAR
METHOD:PUBLISH
PRODID:-//Weblication CMS
VERSION:2.0
BEGIN:VEVENT
SUMMARY:Hopp La Familienfest für Jung und Alt
DTSTART:20230902T093000
DTEND:20230902T170000
DESCRIPTION:Herzlich Willkommen zur Erkundung des Hopp-la Parcours mit all seinen Geräten und Attraktionen für Jung und Alt. Ab 10.00 - 15.00 Uhr: Eine Märchenerzählerin führt Euch mit einer spannenden Geschichte zu jeder vollen Stunde in den Parcours ein und erzählt Euch mehr über Lucy und Max. Danach startet Ihr eine Entdeckungsreise mit 4 Wettbewerben durch den Park: Geht auf Nüssli-Jagd mit Lucy und Max, probiert den Partnertanz aus und erprobt Euch im Geduldsfaden. Mit jedem Wettbewerb gibt es tolle Preise zu gewinnen. Die Prämierung aller Wettbewerbe findet um 16.30 Uhr statt.
LOCATION:Villmergen
UID:https://sinnespark.ch/de-ch/events/termine/hopp-la-familienfest-fuer-jung-und-alt.php?uid=b8326cc2fd925ff310777bfad0924f1e
URL:https://sinnespark.ch/de-ch/events/termine/hopp-la-familienfest-fuer-jung-und-alt.php
END:VEVENT
END:VCALENDAR