BEGIN:VCALENDAR
METHOD:PUBLISH
PRODID:-//Weblication CMS
VERSION:2.0
BEGIN:VEVENT
SUMMARY:Einweihungsfeier SINNESPARK
DTSTART:20220618T120000
DTEND:20220619T170000
DESCRIPTION:Endlich ist es soweit. Der "SINNESPARK" kann am Wochenende vom 18./19. Juni 2022 offiziell eingeweiht werden. Die Bauphase unseres gemeinnützigen Projektes "SINNESPARK" konnte bis Ende 2021 planmässig abgeschlossen werden. Nun sind noch letzte Umgebungsarbeiten und Ansaaten fertig zu stellen. Bereits jetzt ist der Sinnespark zur öffentlichen Benutzung freigeben und wird mit Begeisterung wahrgenommen und dürfte sich im Verlaufe der nächsten Monate als Anziehungspunkt etablieren. Feiern Sie mit uns dieses freudige Ereignis und überzeugen Sie sich selbst von den vielfältigen Attraktionen. Hier gehts zum Detailprogramm der Einweihungsfeier.
LOCATION:Villmergen
UID:https://sinnespark.ch/de-ch/events/termine/einweihungsfeier-sinnespark.php?uid=845713cfa33dec81fe8b6f3512e9a331
URL:https://sinnespark.ch/de-ch/events/termine/einweihungsfeier-sinnespark.php
END:VEVENT
END:VCALENDAR