BEGIN:VCALENDAR
METHOD:PUBLISH
PRODID:-//Weblication CMS
VERSION:2.0
BEGIN:VEVENT
SUMMARY:Brunch im Restaurant Rose
DTSTART:20230122T090000
DTEND:20230122T140000
DESCRIPTION:Geniessen Sie unser reichhaltiges Brunch-Buffet mit kalten und warmen Speisen, Tee, Kaffee, Prosecco
LOCATION:Villmergen
UID:https://sinnespark.ch/de-ch/events/termine/brunch-im-restaurant-rose.php?uid=4712b3729a8748ebb7358401719b0dbf
URL:https://sinnespark.ch/de-ch/events/termine/brunch-im-restaurant-rose.php
END:VEVENT
END:VCALENDAR