BEGIN:VCALENDAR
METHOD:PUBLISH
PRODID:-//Weblication CMS
VERSION:2.0
BEGIN:VEVENT
SUMMARY:Abendstunde - Villmergens Geschichte im Zeitraffer
DTSTART:20220915T193000
DTEND:20220915T210000
DESCRIPTION:Villmergen verändert sich rasant. Es wird gebaut und gebaut, der Verkehr nimmt zu und das beschauliche Dorf von einst erkennt man kaum noch. Deshalb ist es umso wichtiger, sich der Geschichte und der Wurzeln dieses Dorfes bewusst zu werden. Wer weiss noch, wo um 1800 das erste Schulhaus von Villmergen stand, wie die erste Kirche, die vor mehr als 900 Jahren gebaut wurde, im Jahr 1863 durch eine neugotische Kirche ersetzt wurde. Die Frühindustrialisierung mit der Stroh- und Heimarbeit läutete de Wandel zur modernen Zeit ein. Wie und wovon lebten die Menschen vor 1000, vor 500 oder noch vor 100 Jahren hier in Villmergen? Von all dem erfahren Sie in dieser Abendstunde. Der Villmerger Historiker Dr. Josef Kunz, Autor zur Geschichte der Kirche und des Altersheimes von Villmergen und Archivar der kath. Kirchgemeinde führt Sie durch diesen Abend.
LOCATION:Villmergen
UID:https://sinnespark.ch/de-ch/events/termine/abendstunde-villmergens-geschichte-im-zeitraffer.php?uid=e537d2588eff1adcc9b00eff30b70cb5
URL:https://sinnespark.ch/de-ch/events/termine/abendstunde-villmergens-geschichte-im-zeitraffer.php
END:VEVENT
END:VCALENDAR