BEGIN:VCALENDAR
METHOD:PUBLISH
PRODID:-//Weblication CMS
VERSION:2.0
BEGIN:VEVENT
SUMMARY:Abendstunde &quot;Rechtzeitig vorsorgen  - gewusst wie&quot;
DTSTART:20240418T193000
DTEND:20240418T213000
DESCRIPTION:
LOCATION:Villmergen
UID:https://sinnespark.ch/de-ch/events/termine/abendstunde-quot-patientenverfuegung-quot.php?uid=836f591af5d1d25d0ffa5eff9a6f7277
URL:https://sinnespark.ch/de-ch/events/termine/abendstunde-quot-patientenverfuegung-quot.php
END:VEVENT
END:VCALENDAR