BEGIN:VCALENDAR
METHOD:PUBLISH
PRODID:-//Weblication CMS
VERSION:2.0
BEGIN:VEVENT
SUMMARY:Abendstunde &quot;Die Gefahr der Einsamkeit im Alter&quot;
DTSTART:20240314T193000
DTEND:20240314T213000
DESCRIPTION:
LOCATION:Villmergen
UID:https://sinnespark.ch/de-ch/events/termine/abendstunde-quot-einsamkeit-im-alter-quot.php?uid=106a9e9325154b656942580e390cb0ed
URL:https://sinnespark.ch/de-ch/events/termine/abendstunde-quot-einsamkeit-im-alter-quot.php
END:VEVENT
END:VCALENDAR