BEGIN:VCALENDAR
METHOD:PUBLISH
PRODID:-//Weblication CMS
VERSION:2.0
BEGIN:VEVENT
SUMMARY:Abendstunde &quot;Altersdepression - Wenn die Eltern niedergeschlagen und antriebsschwach sind&quot;
DTSTART:20240919T193000
DTEND:20240919T213000
DESCRIPTION:
LOCATION:Villmergen
UID:https://sinnespark.ch/de-ch/events/termine/abendstunde-quot-altersdepression-quot.php?uid=11c83f1514862126072d0acd35cbed8d
URL:https://sinnespark.ch/de-ch/events/termine/abendstunde-quot-altersdepression-quot.php
END:VEVENT
END:VCALENDAR