BEGIN:VCALENDAR
METHOD:PUBLISH
PRODID:-//Weblication CMS
VERSION:2.0
BEGIN:VEVENT
SUMMARY:2. Rosenfest im Sinnespark
DTSTART:20240629T110000
DTEND:20240629T180000
DESCRIPTION:Wir begrüssen Sie herzlich zum Rosenfest im Sinnespark der Oberen Mühle Villmergen. Das Fest startet mit einem ökumenischen Gottesdienst auf der Terrasse des Restaurants. Danach gibt es Attraktionen für Jung und Alt zum Verweilen, Geniessen und gemütlichen Beisammensein.
LOCATION:Villmergen
UID:https://sinnespark.ch/de-ch/events/termine/2-rosenfest-im-sinnespark-1.php?uid=8d2edbb4dc2acbe8c5ca41a7219c0374
URL:https://sinnespark.ch/de-ch/events/termine/2-rosenfest-im-sinnespark-1.php
END:VEVENT
END:VCALENDAR