BEGIN:VCALENDAR
METHOD:PUBLISH
PRODID:-//Weblication CMS
VERSION:2.0
BEGIN:VEVENT
SUMMARY:1. August - Feier der Gemeinde Villmergen
DTSTART:20230801T101500
DTEND:20230801T170000
DESCRIPTION:Die 1. August-Feier der Gemeinde Villmergen findet im Sinnespark / Restaurant Rose statt. Wir freuen Sie zu einem gemütlichen Programm mit  musikalischer Unterhaltung der Musikgesellschaft Villmergen, er Alphorn Bläser, dem Jodlerkub "Heimelig" und Annas Chinderjodel-Chöri zu begrüssen. 
LOCATION:Villmergen
UID:https://sinnespark.ch/de-ch/events/termine/1-august-feier-der-gemeinde-villmergen.php?uid=a0fdb98a8a268839b26ce53f65726604
URL:https://sinnespark.ch/de-ch/events/termine/1-august-feier-der-gemeinde-villmergen.php
END:VEVENT
END:VCALENDAR